BEGIN:VCALENDAR
VERSION:2.0
PRODID:-//ACKCSC - ECPv6.15.18//NONSGML v1.0//EN
CALSCALE:GREGORIAN
METHOD:PUBLISH
X-ORIGINAL-URL:https://ackcsc.org
X-WR-CALDESC:Events for ACKCSC
REFRESH-INTERVAL;VALUE=DURATION:PT1H
X-Robots-Tag:noindex
X-PUBLISHED-TTL:PT1H
BEGIN:VTIMEZONE
TZID:America/Los_Angeles
BEGIN:DAYLIGHT
TZOFFSETFROM:-0800
TZOFFSETTO:-0700
TZNAME:PDT
DTSTART:20250309T100000
END:DAYLIGHT
BEGIN:STANDARD
TZOFFSETFROM:-0700
TZOFFSETTO:-0800
TZNAME:PST
DTSTART:20251102T090000
END:STANDARD
BEGIN:DAYLIGHT
TZOFFSETFROM:-0800
TZOFFSETTO:-0700
TZNAME:PDT
DTSTART:20260308T100000
END:DAYLIGHT
BEGIN:STANDARD
TZOFFSETFROM:-0700
TZOFFSETTO:-0800
TZNAME:PST
DTSTART:20261101T090000
END:STANDARD
BEGIN:DAYLIGHT
TZOFFSETFROM:-0800
TZOFFSETTO:-0700
TZNAME:PDT
DTSTART:20270314T100000
END:DAYLIGHT
BEGIN:STANDARD
TZOFFSETFROM:-0700
TZOFFSETTO:-0800
TZNAME:PST
DTSTART:20271107T090000
END:STANDARD
END:VTIMEZONE
BEGIN:VEVENT
DTSTART;VALUE=DATE:20260103
DTEND;VALUE=DATE:20260104
DTSTAMP:20260420T205359
CREATED:20241025T011642Z
LAST-MODIFIED:20250814T223526Z
UID:4853-1767398400-1767484799@ackcsc.org
SUMMARY:Twin Cities Specialty
DESCRIPTION:JANUARY 3\, 2026
URL:https://ackcsc.org/event/twin-cities-specialty/
END:VEVENT
BEGIN:VEVENT
DTSTART;VALUE=DATE:20260124
DTEND;VALUE=DATE:20260126
DTSTAMP:20260420T205359
CREATED:20241025T011210Z
LAST-MODIFIED:20250814T223216Z
UID:4851-1769212800-1769385599@ackcsc.org
SUMMARY:Palmetto Specialty
DESCRIPTION:January 24-25\, 2026 \nExchange Park\, Ladson\, SC
URL:https://ackcsc.org/event/palmetto-specialty/
END:VEVENT
BEGIN:VEVENT
DTSTART;VALUE=DATE:20260130
DTEND;VALUE=DATE:20260201
DTSTAMP:20260420T205359
CREATED:20250804T212723Z
LAST-MODIFIED:20250804T212723Z
UID:5882-1769731200-1769903999@ackcsc.org
SUMMARY:Central Arizona Specialties
DESCRIPTION:Friday\, January 30th\, 2026 at the Arizona State Fairgrounds in Phoenix\, Arizona (Judge Gayle Reardon) \nSaturday\, January 31st\, 2026 at the Arizona State Fairgrounds in Phoenix\, Arizona (Judge Jean Tremblay)
URL:https://ackcsc.org/event/central-arizona-specialties-2/
END:VEVENT
END:VCALENDAR