BEGIN:VCALENDAR
VERSION:2.0
PRODID:-//ACKCSC - ECPv6.15.18//NONSGML v1.0//EN
CALSCALE:GREGORIAN
METHOD:PUBLISH
X-ORIGINAL-URL:https://ackcsc.org
X-WR-CALDESC:Events for ACKCSC
REFRESH-INTERVAL;VALUE=DURATION:PT1H
X-Robots-Tag:noindex
X-PUBLISHED-TTL:PT1H
BEGIN:VTIMEZONE
TZID:America/North_Dakota/Center
BEGIN:DAYLIGHT
TZOFFSETFROM:-0600
TZOFFSETTO:-0500
TZNAME:CDT
DTSTART:20250309T080000
END:DAYLIGHT
BEGIN:STANDARD
TZOFFSETFROM:-0500
TZOFFSETTO:-0600
TZNAME:CST
DTSTART:20251102T070000
END:STANDARD
BEGIN:DAYLIGHT
TZOFFSETFROM:-0600
TZOFFSETTO:-0500
TZNAME:CDT
DTSTART:20260308T080000
END:DAYLIGHT
BEGIN:STANDARD
TZOFFSETFROM:-0500
TZOFFSETTO:-0600
TZNAME:CST
DTSTART:20261101T070000
END:STANDARD
BEGIN:DAYLIGHT
TZOFFSETFROM:-0600
TZOFFSETTO:-0500
TZNAME:CDT
DTSTART:20270314T080000
END:DAYLIGHT
BEGIN:STANDARD
TZOFFSETFROM:-0500
TZOFFSETTO:-0600
TZNAME:CST
DTSTART:20271107T070000
END:STANDARD
END:VTIMEZONE
BEGIN:VEVENT
DTSTART;TZID=America/North_Dakota/Center:20260217T190000
DTEND;TZID=America/North_Dakota/Center:20260217T210000
DTSTAMP:20260421T003559
CREATED:20250812T230152Z
LAST-MODIFIED:20260204T002128Z
UID:5933-1771354800-1771362000@ackcsc.org
SUMMARY:February Board Meeting
DESCRIPTION:Member input is important to the BOD. If you have any questions or topics that you would like the BOD to answer or discuss\, please send an email to corrsec@ackcsc.org at least 10 days before the meeting so that we have time to research the topic or question.
URL:https://ackcsc.org/event/december-board-of-directors-meeting/
END:VEVENT
END:VCALENDAR